Package: chromVAR Version: 1.29.0 Command: /home/biocbuild/R/R/bin/R CMD INSTALL chromVAR StartedAt: 2025-01-29 20:07:47 -0000 (Wed, 29 Jan 2025) EndedAt: 2025-01-29 20:09:30 -0000 (Wed, 29 Jan 2025) EllapsedTime: 103.5 seconds RetCode: 0 Status: OK