Package: chromVAR Version: 1.29.0 Command: /Library/Frameworks/R.framework/Resources/bin/R CMD build --keep-empty-dirs --no-resave-data chromVAR StartedAt: 2025-02-04 16:13:51 -0500 (Tue, 04 Feb 2025) EndedAt: 2025-02-04 16:16:34 -0500 (Tue, 04 Feb 2025) EllapsedTime: 163.2 seconds RetCode: 0 Status: OK PackageFile: chromVAR_1.29.0.tar.gz PackageFileSize: 501.6 KiB