Package: chromVAR Version: 1.29.0 Command: /Library/Frameworks/R.framework/Resources/bin/R CMD INSTALL chromVAR StartedAt: 2025-02-09 15:26:09 -0500 (Sun, 09 Feb 2025) EndedAt: 2025-02-09 15:27:38 -0500 (Sun, 09 Feb 2025) EllapsedTime: 89.0 seconds RetCode: 0 Status: OK