Package: chromVAR Version: 1.29.0 Command: /home/biocbuild/bbs-3.21-bioc/R/bin/R CMD check --install=check:chromVAR.install-out.txt --library=/home/biocbuild/bbs-3.21-bioc/R/site-library --timings chromVAR_1.29.0.tar.gz StartedAt: 2025-02-09 20:55:17 -0500 (Sun, 09 Feb 2025) EndedAt: 2025-02-09 21:03:18 -0500 (Sun, 09 Feb 2025) EllapsedTime: 480.7 seconds RetCode: 0 Status: OK CheckDir: chromVAR.Rcheck Warnings: 0