Package: chromVAR Version: 1.29.0 Command: /home/biocbuild/bbs-3.21-bioc/R/bin/R CMD INSTALL chromVAR StartedAt: 2025-02-04 15:50:00 -0500 (Tue, 04 Feb 2025) EndedAt: 2025-02-04 15:51:10 -0500 (Tue, 04 Feb 2025) EllapsedTime: 70.7 seconds RetCode: 0 Status: OK