Package: chromVAR Version: 1.29.0 Command: rm -rf chromVAR.buildbin-libdir && mkdir chromVAR.buildbin-libdir && E:\biocbuild\bbs-3.21-bioc\R\bin\R.exe CMD INSTALL --build --library=chromVAR.buildbin-libdir chromVAR_1.29.0.tar.gz StartedAt: 2025-02-10 07:27:19 -0500 (Mon, 10 Feb 2025) EndedAt: 2025-02-10 07:30:13 -0500 (Mon, 10 Feb 2025) EllapsedTime: 173.7 seconds RetCode: 0 Status: OK PackageFile: chromVAR_1.29.0.zip PackageFileSize: 1.599 MiB