Package: chromstaR Version: 1.33.1 Command: /home/biocbuild/R/R/bin/R CMD build --keep-empty-dirs --no-resave-data chromstaR StartedAt: 2025-01-28 21:50:47 -0000 (Tue, 28 Jan 2025) EndedAt: 2025-01-28 21:50:50 -0000 (Tue, 28 Jan 2025) EllapsedTime: 3.0 seconds RetCode: 1 Status: ERROR PackageFile: None PackageFileSize: NA