Package: chromstaR Version: 1.33.1 Command: /Library/Frameworks/R.framework/Resources/bin/R CMD build --keep-empty-dirs --no-resave-data chromstaR StartedAt: 2025-02-09 16:16:41 -0500 (Sun, 09 Feb 2025) EndedAt: 2025-02-09 16:16:45 -0500 (Sun, 09 Feb 2025) EllapsedTime: 3.4 seconds RetCode: 1 Status: ERROR PackageFile: None PackageFileSize: NA