Package: chromstaR Version: 1.33.1 Command: /Library/Frameworks/R.framework/Resources/bin/R CMD INSTALL chromstaR StartedAt: 2025-02-09 15:16:06 -0500 (Sun, 09 Feb 2025) EndedAt: 2025-02-09 15:16:09 -0500 (Sun, 09 Feb 2025) EllapsedTime: 2.7 seconds RetCode: 1 Status: ERROR