Package: chromstaR Version: 1.33.1 Command: /home/biocbuild/bbs-3.21-bioc/R/bin/R CMD INSTALL chromstaR StartedAt: 2025-02-09 15:30:43 -0500 (Sun, 09 Feb 2025) EndedAt: 2025-02-09 15:30:45 -0500 (Sun, 09 Feb 2025) EllapsedTime: 2.6 seconds RetCode: 1 Status: ERROR