Package: chromstaR Version: 1.33.1 Command: rm -rf chromstaR.buildbin-libdir && mkdir chromstaR.buildbin-libdir && E:\biocbuild\bbs-3.21-bioc\R\bin\R.exe CMD INSTALL --build --library=chromstaR.buildbin-libdir chromstaR_1.33.1.tar.gz StartedAt: 2025-01-22 07:17:50 -0500 (Wed, 22 Jan 2025) EndedAt: 2025-01-22 07:19:17 -0500 (Wed, 22 Jan 2025) EllapsedTime: 87.5 seconds RetCode: 0 Status: OK PackageFile: chromstaR_1.33.1.zip PackageFileSize: 6.747 MiB