Package: circRNAprofiler Version: 1.21.0 Command: /home/biocbuild/R/R/bin/R CMD INSTALL circRNAprofiler StartedAt: 2025-01-29 20:23:55 -0000 (Wed, 29 Jan 2025) EndedAt: 2025-01-29 20:25:07 -0000 (Wed, 29 Jan 2025) EllapsedTime: 71.4 seconds RetCode: 0 Status: OK