Package: circRNAprofiler Version: 1.21.0 Command: /Library/Frameworks/R.framework/Resources/bin/R CMD build --keep-empty-dirs --no-resave-data circRNAprofiler StartedAt: 2025-02-03 16:19:32 -0500 (Mon, 03 Feb 2025) EndedAt: 2025-02-03 16:21:04 -0500 (Mon, 03 Feb 2025) EllapsedTime: 92.4 seconds RetCode: 0 Status: OK PackageFile: circRNAprofiler_1.21.0.tar.gz PackageFileSize: 3.716 MiB