Package: circRNAprofiler Version: 1.21.0 Command: /home/biocbuild/bbs-3.21-bioc/R/bin/R CMD INSTALL circRNAprofiler StartedAt: 2025-02-03 15:48:45 -0500 (Mon, 03 Feb 2025) EndedAt: 2025-02-03 15:49:37 -0500 (Mon, 03 Feb 2025) EllapsedTime: 52.2 seconds RetCode: 0 Status: OK