Package: circRNAprofiler Version: 1.21.0 Command: rm -rf circRNAprofiler.buildbin-libdir && mkdir circRNAprofiler.buildbin-libdir && E:\biocbuild\bbs-3.21-bioc\R\bin\R.exe CMD INSTALL --build --library=circRNAprofiler.buildbin-libdir circRNAprofiler_1.21.0.tar.gz StartedAt: 2025-02-10 07:27:33 -0500 (Mon, 10 Feb 2025) EndedAt: 2025-02-10 07:30:26 -0500 (Mon, 10 Feb 2025) EllapsedTime: 173.9 seconds RetCode: 0 Status: OK PackageFile: circRNAprofiler_1.21.0.zip PackageFileSize: 3.349 MiB