Package: circRNAprofiler Version: 1.21.0 Command: chmod a+r circRNAprofiler -R && E:\biocbuild\bbs-3.21-bioc\R\bin\R.exe CMD build --keep-empty-dirs --no-resave-data circRNAprofiler StartedAt: 2025-02-03 18:04:28 -0500 (Mon, 03 Feb 2025) EndedAt: 2025-02-03 18:07:14 -0500 (Mon, 03 Feb 2025) EllapsedTime: 166.1 seconds RetCode: 0 Status: OK PackageFile: circRNAprofiler_1.21.0.tar.gz PackageFileSize: 3.491 MiB