Package: cleanUpdTSeq Version: 1.45.1 Command: rm -rf cleanUpdTSeq.buildbin-libdir && mkdir cleanUpdTSeq.buildbin-libdir && /Users/biocbuild/BBS/utils/build-universal.sh cleanUpdTSeq_1.45.1.tar.gz /Library/Frameworks/R.framework/Resources/bin/R cleanUpdTSeq.buildbin-libdir StartedAt: 2025-02-09 22:09:29 -0500 (Sun, 09 Feb 2025) EndedAt: 2025-02-09 22:09:56 -0500 (Sun, 09 Feb 2025) EllapsedTime: 26.5 seconds RetCode: 0 Status: OK PackageFile: cleanUpdTSeq_1.45.1.tgz PackageFileSize: 5.871 MiB