Package: cleanUpdTSeq Version: 1.45.1 Command: /home/biocbuild/R/R/bin/R CMD build --keep-empty-dirs --no-resave-data cleanUpdTSeq StartedAt: 2025-01-28 21:53:51 -0000 (Tue, 28 Jan 2025) EndedAt: 2025-01-28 21:55:59 -0000 (Tue, 28 Jan 2025) EllapsedTime: 128.0 seconds RetCode: 0 Status: OK PackageFile: cleanUpdTSeq_1.45.1.tar.gz PackageFileSize: 4.034 MiB