Package: cleanUpdTSeq Version: 1.45.1 Command: /home/biocbuild/R/R/bin/R CMD INSTALL cleanUpdTSeq StartedAt: 2025-01-29 19:55:58 -0000 (Wed, 29 Jan 2025) EndedAt: 2025-01-29 19:58:05 -0000 (Wed, 29 Jan 2025) EllapsedTime: 126.9 seconds RetCode: 0 Status: OK