Package: cleanUpdTSeq Version: 1.45.1 Command: rm -rf cleanUpdTSeq.buildbin-libdir && mkdir cleanUpdTSeq.buildbin-libdir && /Users/biocbuild/BBS/utils/build-universal.sh cleanUpdTSeq_1.45.1.tar.gz /Library/Frameworks/R.framework/Resources/bin/R cleanUpdTSeq.buildbin-libdir StartedAt: 2025-02-10 00:46:50 -0500 (Mon, 10 Feb 2025) EndedAt: 2025-02-10 00:49:00 -0500 (Mon, 10 Feb 2025) EllapsedTime: 130.3 seconds RetCode: 0 Status: OK PackageFile: cleanUpdTSeq_1.45.1.tgz PackageFileSize: 5.869 MiB