Package: cleanUpdTSeq Version: 1.45.1 Command: /Library/Frameworks/R.framework/Resources/bin/R CMD build --keep-empty-dirs --no-resave-data cleanUpdTSeq StartedAt: 2025-02-09 16:17:24 -0500 (Sun, 09 Feb 2025) EndedAt: 2025-02-09 16:19:28 -0500 (Sun, 09 Feb 2025) EllapsedTime: 124.6 seconds RetCode: 0 Status: OK PackageFile: cleanUpdTSeq_1.45.1.tar.gz PackageFileSize: 4.008 MiB