Package: cleanUpdTSeq Version: 1.45.1 Command: /Library/Frameworks/R.framework/Resources/bin/R CMD INSTALL cleanUpdTSeq StartedAt: 2025-02-09 15:21:55 -0500 (Sun, 09 Feb 2025) EndedAt: 2025-02-09 15:23:55 -0500 (Sun, 09 Feb 2025) EllapsedTime: 120.6 seconds RetCode: 0 Status: OK