Package: cleanUpdTSeq Version: 1.45.1 Command: /home/biocbuild/bbs-3.21-bioc/R/bin/R CMD build --keep-empty-dirs --no-resave-data cleanUpdTSeq StartedAt: 2025-02-09 16:40:07 -0500 (Sun, 09 Feb 2025) EndedAt: 2025-02-09 16:41:28 -0500 (Sun, 09 Feb 2025) EllapsedTime: 81.1 seconds RetCode: 0 Status: OK PackageFile: cleanUpdTSeq_1.45.1.tar.gz PackageFileSize: 4.008 MiB