Package: cleanUpdTSeq Version: 1.45.1 Command: chmod a+r cleanUpdTSeq -R && E:\biocbuild\bbs-3.21-bioc\R\bin\R.exe CMD build --keep-empty-dirs --no-resave-data cleanUpdTSeq StartedAt: 2025-02-12 17:56:03 -0500 (Wed, 12 Feb 2025) EndedAt: 2025-02-12 17:57:48 -0500 (Wed, 12 Feb 2025) EllapsedTime: 104.6 seconds RetCode: 0 Status: OK PackageFile: cleanUpdTSeq_1.45.1.tar.gz PackageFileSize: 4.008 MiB