Package: cleanUpdTSeq Version: 1.45.1 Command: E:\biocbuild\bbs-3.21-bioc\R\bin\R.exe CMD check --no-multiarch --install=check:cleanUpdTSeq.install-out.txt --library=E:\biocbuild\bbs-3.21-bioc\R\library --no-vignettes --timings cleanUpdTSeq_1.45.1.tar.gz StartedAt: 2025-02-12 23:50:09 -0500 (Wed, 12 Feb 2025) EndedAt: 2025-02-12 23:55:27 -0500 (Wed, 12 Feb 2025) EllapsedTime: 318.5 seconds RetCode: 0 Status: OK CheckDir: cleanUpdTSeq.Rcheck Warnings: 0