Package: cleaver Version: 1.45.0 Command: rm -rf cleaver.buildbin-libdir && mkdir cleaver.buildbin-libdir && /Users/biocbuild/BBS/utils/build-universal.sh cleaver_1.45.0.tar.gz /Library/Frameworks/R.framework/Resources/bin/R cleaver.buildbin-libdir StartedAt: 2025-02-09 22:09:32 -0500 (Sun, 09 Feb 2025) EndedAt: 2025-02-09 22:09:37 -0500 (Sun, 09 Feb 2025) EllapsedTime: 5.1 seconds RetCode: 0 Status: OK PackageFile: cleaver_1.45.0.tgz PackageFileSize: 381.3 KiB