Package: cleaver Version: 1.45.0 Command: E:\biocbuild\bbs-3.21-bioc\R\bin\R.exe CMD check --no-multiarch --install=check:cleaver.install-out.txt --library=E:\biocbuild\bbs-3.21-bioc\R\library --no-vignettes --timings cleaver_1.45.0.tar.gz StartedAt: 2025-02-12 23:50:16 -0500 (Wed, 12 Feb 2025) EndedAt: 2025-02-12 23:51:39 -0500 (Wed, 12 Feb 2025) EllapsedTime: 83.2 seconds RetCode: 0 Status: OK CheckDir: cleaver.Rcheck Warnings: 0