Package: clevRvis Version: 1.7.0 Command: /Library/Frameworks/R.framework/Resources/bin/R CMD build --keep-empty-dirs --no-resave-data clevRvis StartedAt: 2025-02-09 15:54:50 -0500 (Sun, 09 Feb 2025) EndedAt: 2025-02-09 15:55:00 -0500 (Sun, 09 Feb 2025) EllapsedTime: 10.1 seconds RetCode: 0 Status: OK PackageFile: clevRvis_1.7.0.tar.gz PackageFileSize: 2.374 MiB