Package: clevRvis Version: 1.7.0 Command: /home/biocbuild/R/R/bin/R CMD build --keep-empty-dirs --no-resave-data clevRvis StartedAt: 2025-01-28 21:54:29 -0000 (Tue, 28 Jan 2025) EndedAt: 2025-01-28 21:55:02 -0000 (Tue, 28 Jan 2025) EllapsedTime: 33.0 seconds RetCode: 0 Status: OK PackageFile: clevRvis_1.7.0.tar.gz PackageFileSize: 2.036 MiB