Package: clevRvis Version: 1.7.0 Command: /home/biocbuild/R/R/bin/R CMD INSTALL clevRvis StartedAt: 2025-01-29 20:13:06 -0000 (Wed, 29 Jan 2025) EndedAt: 2025-01-29 20:13:19 -0000 (Wed, 29 Jan 2025) EllapsedTime: 13.0 seconds RetCode: 0 Status: OK