Package: clevRvis Version: 1.7.0 Command: rm -rf clevRvis.buildbin-libdir && mkdir clevRvis.buildbin-libdir && /Users/biocbuild/BBS/utils/build-universal.sh clevRvis_1.7.0.tar.gz /Library/Frameworks/R.framework/Resources/bin/R clevRvis.buildbin-libdir StartedAt: 2025-02-10 00:46:54 -0500 (Mon, 10 Feb 2025) EndedAt: 2025-02-10 00:47:11 -0500 (Mon, 10 Feb 2025) EllapsedTime: 16.1 seconds RetCode: 0 Status: OK PackageFile: clevRvis_1.7.0.tgz PackageFileSize: 2.653 MiB