Package: clevRvis Version: 1.7.0 Command: /Library/Frameworks/R.framework/Resources/bin/R CMD build --keep-empty-dirs --no-resave-data clevRvis StartedAt: 2025-02-12 16:15:29 -0500 (Wed, 12 Feb 2025) EndedAt: 2025-02-12 16:15:56 -0500 (Wed, 12 Feb 2025) EllapsedTime: 27.4 seconds RetCode: 0 Status: OK PackageFile: clevRvis_1.7.0.tar.gz PackageFileSize: 2.373 MiB