Package: clevRvis Version: 1.7.0 Command: /home/biocbuild/bbs-3.21-bioc/R/bin/R CMD INSTALL clevRvis StartedAt: 2025-02-04 15:08:44 -0500 (Tue, 04 Feb 2025) EndedAt: 2025-02-04 15:08:58 -0500 (Tue, 04 Feb 2025) EllapsedTime: 14.2 seconds RetCode: 0 Status: OK