Package: clevRvis Version: 1.7.0 Command: E:\biocbuild\bbs-3.21-bioc\R\bin\R.exe CMD INSTALL clevRvis StartedAt: 2025-02-12 15:53:18 -0500 (Wed, 12 Feb 2025) EndedAt: 2025-02-12 15:53:53 -0500 (Wed, 12 Feb 2025) EllapsedTime: 34.7 seconds RetCode: 0 Status: OK