Package: cliProfiler Version: 1.13.0 Command: /Library/Frameworks/R.framework/Resources/bin/R CMD check --install=check:cliProfiler.install-out.txt --library=/Library/Frameworks/R.framework/Resources/library --no-vignettes --timings cliProfiler_1.13.0.tar.gz StartedAt: 2025-02-10 18:33:16 -0500 (Mon, 10 Feb 2025) EndedAt: 2025-02-10 18:34:55 -0500 (Mon, 10 Feb 2025) EllapsedTime: 99.2 seconds RetCode: 0 Status: OK CheckDir: cliProfiler.Rcheck Warnings: 0