Package: cliProfiler Version: 1.13.0 Command: /Library/Frameworks/R.framework/Resources/bin/R CMD INSTALL cliProfiler StartedAt: 2025-02-10 15:10:25 -0500 (Mon, 10 Feb 2025) EndedAt: 2025-02-10 15:10:39 -0500 (Mon, 10 Feb 2025) EllapsedTime: 13.9 seconds RetCode: 0 Status: OK