Package: cliProfiler Version: 1.13.0 Command: /home/biocbuild/R/R/bin/R CMD INSTALL cliProfiler StartedAt: 2025-01-29 19:54:25 -0000 (Wed, 29 Jan 2025) EndedAt: 2025-01-29 19:55:12 -0000 (Wed, 29 Jan 2025) EllapsedTime: 47.4 seconds RetCode: 0 Status: OK