Package: cliProfiler Version: 1.13.0 Command: rm -rf cliProfiler.buildbin-libdir && mkdir cliProfiler.buildbin-libdir && /Users/biocbuild/BBS/utils/build-universal.sh cliProfiler_1.13.0.tar.gz /Library/Frameworks/R.framework/Resources/bin/R cliProfiler.buildbin-libdir StartedAt: 2025-02-11 01:01:07 -0500 (Tue, 11 Feb 2025) EndedAt: 2025-02-11 01:01:55 -0500 (Tue, 11 Feb 2025) EllapsedTime: 47.3 seconds RetCode: 0 Status: OK PackageFile: cliProfiler_1.13.0.tgz PackageFileSize: 1.38 MiB