Package: cliProfiler Version: 1.13.0 Command: /Library/Frameworks/R.framework/Resources/bin/R CMD build --keep-empty-dirs --no-resave-data cliProfiler StartedAt: 2025-02-10 16:15:01 -0500 (Mon, 10 Feb 2025) EndedAt: 2025-02-10 16:16:20 -0500 (Mon, 10 Feb 2025) EllapsedTime: 78.9 seconds RetCode: 0 Status: OK PackageFile: cliProfiler_1.13.0.tar.gz PackageFileSize: 1.282 MiB