Package: cliProfiler Version: 1.13.0 Command: /Library/Frameworks/R.framework/Resources/bin/R CMD INSTALL cliProfiler StartedAt: 2025-02-10 15:19:55 -0500 (Mon, 10 Feb 2025) EndedAt: 2025-02-10 15:20:40 -0500 (Mon, 10 Feb 2025) EllapsedTime: 44.8 seconds RetCode: 0 Status: OK