Package: cliProfiler Version: 1.13.0 Command: /home/biocbuild/bbs-3.21-bioc/R/bin/R CMD build --keep-empty-dirs --no-resave-data cliProfiler StartedAt: 2025-02-10 16:50:00 -0500 (Mon, 10 Feb 2025) EndedAt: 2025-02-10 16:51:10 -0500 (Mon, 10 Feb 2025) EllapsedTime: 70.1 seconds RetCode: 0 Status: OK PackageFile: cliProfiler_1.13.0.tar.gz PackageFileSize: 1.209 MiB