Package: cliProfiler Version: 1.13.0 Command: /home/biocbuild/bbs-3.21-bioc/R/bin/R CMD check --install=check:cliProfiler.install-out.txt --library=/home/biocbuild/bbs-3.21-bioc/R/site-library --timings cliProfiler_1.13.0.tar.gz StartedAt: 2025-02-10 21:07:38 -0500 (Mon, 10 Feb 2025) EndedAt: 2025-02-10 21:12:28 -0500 (Mon, 10 Feb 2025) EllapsedTime: 290.4 seconds RetCode: 0 Status: OK CheckDir: cliProfiler.Rcheck Warnings: 0