Package: cliProfiler Version: 1.13.0 Command: /home/biocbuild/bbs-3.21-bioc/R/bin/R CMD INSTALL cliProfiler StartedAt: 2025-02-10 15:37:28 -0500 (Mon, 10 Feb 2025) EndedAt: 2025-02-10 15:38:01 -0500 (Mon, 10 Feb 2025) EllapsedTime: 33.5 seconds RetCode: 0 Status: OK