Package: cliProfiler Version: 1.13.0 Command: E:\biocbuild\bbs-3.21-bioc\R\bin\R.exe CMD check --no-multiarch --install=check:cliProfiler.install-out.txt --library=E:\biocbuild\bbs-3.21-bioc\R\library --no-vignettes --timings cliProfiler_1.13.0.tar.gz StartedAt: 2025-02-10 23:53:03 -0500 (Mon, 10 Feb 2025) EndedAt: 2025-02-10 23:57:52 -0500 (Mon, 10 Feb 2025) EllapsedTime: 288.7 seconds RetCode: 0 Status: OK CheckDir: cliProfiler.Rcheck Warnings: 0