Package: cliProfiler Version: 1.13.0 Command: E:\biocbuild\bbs-3.21-bioc\R\bin\R.exe CMD INSTALL cliProfiler StartedAt: 2025-02-10 16:14:42 -0500 (Mon, 10 Feb 2025) EndedAt: 2025-02-10 16:15:33 -0500 (Mon, 10 Feb 2025) EllapsedTime: 51.7 seconds RetCode: 0 Status: OK