Package: cliqueMS Version: 1.21.0 Command: rm -rf cliqueMS.buildbin-libdir && mkdir cliqueMS.buildbin-libdir && /Users/biocbuild/BBS/utils/build-universal.sh cliqueMS_1.21.0.tar.gz /Library/Frameworks/R.framework/Resources/bin/R cliqueMS.buildbin-libdir StartedAt: 2025-02-09 22:09:36 -0500 (Sun, 09 Feb 2025) EndedAt: 2025-02-09 22:10:03 -0500 (Sun, 09 Feb 2025) EllapsedTime: 26.6 seconds RetCode: 0 Status: OK PackageFile: cliqueMS_1.21.0.tgz PackageFileSize: 1.03 MiB