Package: cliqueMS Version: 1.21.0 Command: /home/biocbuild/R/R/bin/R CMD build --keep-empty-dirs --no-resave-data cliqueMS StartedAt: 2025-01-28 21:55:59 -0000 (Tue, 28 Jan 2025) EndedAt: 2025-01-28 21:58:13 -0000 (Tue, 28 Jan 2025) EllapsedTime: 134.1 seconds RetCode: 0 Status: OK PackageFile: cliqueMS_1.21.0.tar.gz PackageFileSize: 557.3 KiB