Package: cliqueMS Version: 1.21.0 Command: /home/biocbuild/R/R/bin/R CMD INSTALL cliqueMS StartedAt: 2025-01-29 20:14:59 -0000 (Wed, 29 Jan 2025) EndedAt: 2025-01-29 20:16:37 -0000 (Wed, 29 Jan 2025) EllapsedTime: 98.7 seconds RetCode: 0 Status: OK