Package: cliqueMS Version: 1.21.0 Command: rm -rf cliqueMS.buildbin-libdir && mkdir cliqueMS.buildbin-libdir && /Users/biocbuild/BBS/utils/build-universal.sh cliqueMS_1.21.0.tar.gz /Library/Frameworks/R.framework/Resources/bin/R cliqueMS.buildbin-libdir StartedAt: 2025-02-10 00:47:02 -0500 (Mon, 10 Feb 2025) EndedAt: 2025-02-10 00:48:35 -0500 (Mon, 10 Feb 2025) EllapsedTime: 92.4 seconds RetCode: 0 Status: OK PackageFile: cliqueMS_1.21.0.tgz PackageFileSize: 1.042 MiB