Package: cliqueMS Version: 1.21.0 Command: /Library/Frameworks/R.framework/Resources/bin/R CMD build --keep-empty-dirs --no-resave-data cliqueMS StartedAt: 2025-02-09 16:17:59 -0500 (Sun, 09 Feb 2025) EndedAt: 2025-02-09 16:19:43 -0500 (Sun, 09 Feb 2025) EllapsedTime: 104.0 seconds RetCode: 0 Status: OK PackageFile: cliqueMS_1.21.0.tar.gz PackageFileSize: 555.8 KiB